BEGIN:VCALENDAR
VERSION:2.0
PRODID:-//Themed Entertainment &amp; Experience Design - ECPv6.15.17//NONSGML v1.0//EN
CALSCALE:GREGORIAN
METHOD:PUBLISH
X-ORIGINAL-URL:https://www.purduethemedentertainment.com
X-WR-CALDESC:Events for Themed Entertainment &amp; Experience Design
REFRESH-INTERVAL;VALUE=DURATION:PT1H
X-Robots-Tag:noindex
X-PUBLISHED-TTL:PT1H
BEGIN:VTIMEZONE
TZID:UTC
BEGIN:STANDARD
TZOFFSETFROM:+0000
TZOFFSETTO:+0000
TZNAME:UTC
DTSTART:20240101T000000
END:STANDARD
END:VTIMEZONE
BEGIN:VTIMEZONE
TZID:America/Indiana/Indianapolis
BEGIN:DAYLIGHT
TZOFFSETFROM:-0500
TZOFFSETTO:-0400
TZNAME:EDT
DTSTART:20240310T070000
END:DAYLIGHT
BEGIN:STANDARD
TZOFFSETFROM:-0400
TZOFFSETTO:-0500
TZNAME:EST
DTSTART:20241103T060000
END:STANDARD
BEGIN:DAYLIGHT
TZOFFSETFROM:-0500
TZOFFSETTO:-0400
TZNAME:EDT
DTSTART:20250309T070000
END:DAYLIGHT
BEGIN:STANDARD
TZOFFSETFROM:-0400
TZOFFSETTO:-0500
TZNAME:EST
DTSTART:20251102T060000
END:STANDARD
BEGIN:DAYLIGHT
TZOFFSETFROM:-0500
TZOFFSETTO:-0400
TZNAME:EDT
DTSTART:20260308T070000
END:DAYLIGHT
BEGIN:STANDARD
TZOFFSETFROM:-0400
TZOFFSETTO:-0500
TZNAME:EST
DTSTART:20261101T060000
END:STANDARD
END:VTIMEZONE
BEGIN:VTIMEZONE
TZID:America/Halifax
BEGIN:DAYLIGHT
TZOFFSETFROM:-0400
TZOFFSETTO:-0300
TZNAME:ADT
DTSTART:20240310T060000
END:DAYLIGHT
BEGIN:STANDARD
TZOFFSETFROM:-0300
TZOFFSETTO:-0400
TZNAME:AST
DTSTART:20241103T050000
END:STANDARD
BEGIN:DAYLIGHT
TZOFFSETFROM:-0400
TZOFFSETTO:-0300
TZNAME:ADT
DTSTART:20250309T060000
END:DAYLIGHT
BEGIN:STANDARD
TZOFFSETFROM:-0300
TZOFFSETTO:-0400
TZNAME:AST
DTSTART:20251102T050000
END:STANDARD
BEGIN:DAYLIGHT
TZOFFSETFROM:-0400
TZOFFSETTO:-0300
TZNAME:ADT
DTSTART:20260308T060000
END:DAYLIGHT
BEGIN:STANDARD
TZOFFSETFROM:-0300
TZOFFSETTO:-0400
TZNAME:AST
DTSTART:20261101T050000
END:STANDARD
END:VTIMEZONE
BEGIN:VEVENT
DTSTART;TZID=UTC:20251114T000000
DTEND;TZID=UTC:20251123T235959
DTSTAMP:20260422T112314
CREATED:20251107T015140Z
LAST-MODIFIED:20251107T015358Z
UID:251-1763078400-1763942399@www.purduethemedentertainment.com
SUMMARY:IAAPA:  November 14 - Nov 23
DESCRIPTION:Purdue faculty and students will be down in Orlando checking out theme parks and attending the IAAPA Expo. If you want to connect\, connect and contact Josh Polk through LinkedIn. \n  \n 
URL:https://www.purduethemedentertainment.com/event/iaapa-november-14-nov-20/
END:VEVENT
BEGIN:VEVENT
DTSTART;TZID=America/Indiana/Indianapolis:20251110T180000
DTEND;TZID=America/Indiana/Indianapolis:20251110T193000
DTSTAMP:20260422T112314
CREATED:20251107T014620Z
LAST-MODIFIED:20251107T015505Z
UID:249-1762797600-1762803000@www.purduethemedentertainment.com
SUMMARY:Speaker Series Matthew Sanker - Firefly Drone Shows
DESCRIPTION:Our speaker this week is Matt Sanker\, Producer from Firefly Drone Shows. Firefly Drone Shows is a team of animators\, developers\, producers\, and builders coming together to create unforgettable experiences for their audience. By pushing boundaries of drone shows to create the brightest and most life-like displays. They create a story in the sky for everyone to experience. Leading the way for almost a decade\, Firefly is a major entertainment provider. Don’t miss out on the live drone show after the presentation.
URL:https://www.purduethemedentertainment.com/event/title-speaker-series-matthew-sanker-firefly-drone-shows/
END:VEVENT
BEGIN:VEVENT
DTSTART;TZID=UTC:20251019T080000
DTEND;TZID=UTC:20251019T170000
DTSTAMP:20260422T112314
CREATED:20251019T221602Z
LAST-MODIFIED:20251019T221602Z
UID:230-1760860800-1760893200@www.purduethemedentertainment.com
SUMMARY:Joel Jarzen - Schmidt Associates
DESCRIPTION:Joel Jarzen will be with us from Schmidt Associates to discuss the work his company does. Schmidt is a premiere Indianapolis architecture and engineering firm specializing in community\, healthcare\, education\, and more. Learn how this Indy company creates spaces that mix storytelling\, sustainability\, & inspiration—from lively Indianapolis Zoo exhibits to fun custom areas at Girls Inc. HQ\, or their recent redesign of the Indianapolis Motor Speedway Museum that brings Indy 500 history to life!
URL:https://www.purduethemedentertainment.com/event/joel-jarzen-schmidt-associates/
END:VEVENT
BEGIN:VEVENT
DTSTART;TZID=America/Halifax:20251017T133000
DTEND;TZID=America/Halifax:20251017T143000
DTSTAMP:20260422T112314
CREATED:20251014T063137Z
LAST-MODIFIED:20251014T063137Z
UID:214-1760707800-1760711400@www.purduethemedentertainment.com
SUMMARY:Speaker Series: Theron Skees\, Former Imagineering Senior Executive
DESCRIPTION:Join us with our good friend Theron who always has much wisdom and experience to share. Amongst other things\, he guided creative for Disney Springs and led Imagineering’s work at Disney Cruise Lines.
URL:https://www.purduethemedentertainment.com/event/speaker-series-theron-skees-former-imagineering-senior-executive/
END:VEVENT
BEGIN:VEVENT
DTSTART;TZID=America/Indiana/Indianapolis:20250926T133000
DTEND;TZID=America/Indiana/Indianapolis:20250926T143000
DTSTAMP:20260422T112314
CREATED:20250926T043429Z
LAST-MODIFIED:20250926T043633Z
UID:168-1758893400-1758897000@www.purduethemedentertainment.com
SUMMARY:Speaker Series Matthew Schmotzer
DESCRIPTION:Coaster model designer from Print My Ride.
URL:https://www.purduethemedentertainment.com/event/speaker-series-matthew-schmotzer/
END:VEVENT
END:VCALENDAR